BEGIN:VCALENDAR
VERSION:2.0
PRODID:-//ChamberMaster//Event Calendar 2.0//EN
METHOD:PUBLISH
X-PUBLISHED-TTL:P3D
REFRESH-INTERVAL:P3D
CALSCALE:GREGORIAN
BEGIN:VEVENT
DTSTART:20250409T213000Z
DTEND:20250409T233000Z
X-MICROSOFT-CDO-ALLDAYEVENT:FALSE
SUMMARY:Multi-Chamber Networking
DESCRIPTION:Join many area Chambers and their members for an engaging evening of networking! Meet old friends and make new connections while enjoying light food and beverages. There is a $15 fee for Members and a $20 fee for Not Yet Members. Registration is encouraged.  \n\nMulti-Chamber Networking events are offered monthly through a partnership among the Stoneham\, Arlington\, Burlington\, Lexington\, Medford\, Malden\, Melrose\, Reading-North Reading\, Wakefield Area\, Winchester\, Waltham Chambers of Commerce.\n\nThese events provide an excellent opportunity for professionals to connect\, collaborate\, and expand their business networks across various communities. Whether you're looking to grow your business\, seek new opportunities\, or simply meet like-minded individuals\, these networking events offer a valuable platform for personal and professional development.
X-ALT-DESC;FMTTYPE=text/html:<p style="box-sizing: border-box\; font-family: &quot\;Open Sans&quot\;\, sans-serif\; margin-block: 0px 0.9rem\; font-size: 16px\;">Join many area Chambers and their members for an engaging evening of networking! Meet old friends and make new connections while enjoying light food and beverages. There is a $15 fee for Members and a $20 fee for Not Yet Members. Registration is encouraged.&nbsp\;&nbsp\;</p>\n\n<p style="box-sizing: border-box\; font-family: &quot\;Open Sans&quot\;\, sans-serif\; margin-block: 0px 0.9rem\; font-size: 16px\;">Multi-Chamber Networking events are offered monthly through a partnership among the Stoneham\, Arlington\, Burlington\, Lexington\, Medford\, Malden\, Melrose\, Reading-North Reading\, Wakefield Area\, Winchester\, Waltham Chambers of Commerce.</p>\n\n<p style="box-sizing: border-box\; font-family: &quot\;Open Sans&quot\;\, sans-serif\; margin-block: 0px 0.9rem\; font-size: 16px\;">These events provide an excellent opportunity for professionals to connect\, collaborate\, and expand their business networks across various communities. Whether you&rsquo\;re looking to grow your business\, seek new opportunities\, or simply meet like-minded individuals\, these networking events offer a valuable platform for personal and professional development.</p>\n
LOCATION:Faces Brewing Co. 50 Plesant St. Malden\, MA
UID:e.2278.1142
SEQUENCE:3
DTSTAMP:20260420T164018Z
URL:http://wakefieldchamber.chambermaster.com/events/details/multi-chamber-networking-1142
END:VEVENT

END:VCALENDAR
