BEGIN:VCALENDAR
VERSION:2.0
PRODID:-//ChamberMaster//Event Calendar 2.0//EN
METHOD:PUBLISH
X-PUBLISHED-TTL:P3D
REFRESH-INTERVAL:P3D
CALSCALE:GREGORIAN
BEGIN:VEVENT
DTSTART:20250311T210000Z
DTEND:20250312T000000Z
X-MICROSOFT-CDO-ALLDAYEVENT:FALSE
SUMMARY:Multi-Chamber Networking
DESCRIPTION:Join many area Chambers and their members for a St. Patrick's themed evening of networking! Meet old friends and make new connections while enjoying light food and beverages.\n\nThere is a $15 fee for members and a $20 fee for non-members.  Registration is required.\n\n \n\nMulti-Chamber Networking events are offered monthly through a partnership among the Stoneham\, Arlington\, Burlington\, Lexington\, Medford\, Malden\, Melrose\, Reading-North Reading\, Wakefield Area\, Winchester\, Waltham Chambers of Commerce.\n\nThese events provide an excellent opportunity for professionals to connect\, collaborate\, and expand their business networks across various communities. Whether you're looking to grow your business\, seek new opportunities\, or simply meet like-minded individuals\, these networking events offer a valuable platform for personal and professional development.
X-ALT-DESC;FMTTYPE=text/html:<p style="box-sizing: content-box\; margin: 0px 0px 1em\; padding: 0px\; text-shadow: none\; line-height: inherit\; font-size: 15px\; clear: none\; min-height: auto\; max-width: none\; font-family: &quot\;Open Sans&quot\;\, &quot\;Helvetica Neue&quot\;\, Helvetica\, Arial\, sans-serif\;">Join many area Chambers and their members for a St. Patrick&#39\;s themed&nbsp\;evening of networking!&nbsp\;Meet old friends and make new connections while enjoying light food and beverages.</p>\n\n<p style="box-sizing: content-box\; margin: 0px 0px 1em\; padding: 0px\; text-shadow: none\; line-height: inherit\; font-size: 15px\; clear: none\; min-height: auto\; max-width: none\; font-family: &quot\;Open Sans&quot\;\, &quot\;Helvetica Neue&quot\;\, Helvetica\, Arial\, sans-serif\;">There is a $15 fee for members and a $20 fee for non-members. &nbsp\;Registration is required.</p>\n\n<p style="box-sizing: content-box\; margin: 0px 0px 1em\; padding: 0px\; text-shadow: none\; line-height: inherit\; font-size: 15px\; clear: none\; min-height: auto\; max-width: none\; font-family: &quot\;Open Sans&quot\;\, &quot\;Helvetica Neue&quot\;\, Helvetica\, Arial\, sans-serif\;">&nbsp\;</p>\n\n<p style="box-sizing: content-box\; margin: 0px 0px 1em\; padding: 0px\; text-shadow: none\; line-height: inherit\; font-size: 15px\; clear: none\; min-height: auto\; max-width: none\; font-family: &quot\;Open Sans&quot\;\, &quot\;Helvetica Neue&quot\;\, Helvetica\, Arial\, sans-serif\;"><em style="box-sizing: content-box\; text-shadow: none\; line-height: inherit\; font-size: inherit\; color: inherit\; font-weight: inherit\; text-align: inherit\; clear: none\; min-height: auto\; max-width: none\;">Multi-Chamber Networking events are offered monthly through a partnership among the Stoneham\, Arlington\, Burlington\, Lexington\, Medford\, Malden\, Melrose\, Reading-North Reading\, Wakefield Area\, Winchester\, Waltham Chambers of Commerce.</em></p>\n\n<p style="box-sizing: content-box\; margin: 0px 0px 1em\; padding: 0px\; text-shadow: none\; line-height: inherit\; font-size: 15px\; clear: none\; min-height: auto\; max-width: none\; font-family: &quot\;Open Sans&quot\;\, &quot\;Helvetica Neue&quot\;\, Helvetica\, Arial\, sans-serif\;"><em style="box-sizing: content-box\; text-shadow: none\; line-height: inherit\; font-size: inherit\; color: inherit\; font-weight: inherit\; text-align: inherit\; clear: none\; min-height: auto\; max-width: none\;">These events provide an excellent opportunity for professionals to connect\, collaborate\, and expand their business networks across various communities. Whether you&#39\;re looking to grow your business\, seek new opportunities\, or simply meet like-minded individuals\, these networking events offer a valuable platform for personal and professional development.</em></p>\n
LOCATION:Hannah's Brewing Co. 364 Main St. Melrose\, MA
UID:e.2278.1139
SEQUENCE:3
DTSTAMP:20260420T214239Z
URL:http://wakefieldchamber.chambermaster.com/events/details/multi-chamber-networking-1139
END:VEVENT

END:VCALENDAR
