BEGIN:VCALENDAR
VERSION:2.0
PRODID:-//ChamberMaster//Event Calendar 2.0//EN
METHOD:PUBLISH
X-PUBLISHED-TTL:P3D
REFRESH-INTERVAL:P3D
CALSCALE:GREGORIAN
BEGIN:VEVENT
DTSTART:20250122T223000Z
DTEND:20250123T000000Z
X-MICROSOFT-CDO-ALLDAYEVENT:FALSE
SUMMARY:Multi-Chamber Networking
DESCRIPTION:Join area chamber members for an evening of networking! Meet old friends and make new connections while enjoying light food and beverages in the Common House pop-up community space.
X-ALT-DESC;FMTTYPE=text/html:<em><span style="font-size:14px\;"><span style="font-family:tahoma\;"><span style="color:#4B0082\;"><strong>Join area chamber members for an evening of networking! Meet old friends and make new connections while enjoying light food and beverages in the Common House pop-up community space.</strong></span></span></span></em>
LOCATION:Common House Stoneham 335 Main St. Suite 103 Stoneham\, MA
UID:e.2278.1129
SEQUENCE:3
DTSTAMP:20260422T211706Z
URL:http://wakefieldchamber.chambermaster.com/events/details/multi-chamber-networking-1129
END:VEVENT

END:VCALENDAR
